BEGIN:VCALENDAR
VERSION:2.0
PRODID:-//Plone.org//NONSGML plone.app.event//EN
X-WR-TIMEZONE:US/Central
BEGIN:VEVENT
SUMMARY:Adult program at Centerville Library: Learn about the benefits & u
 ses of Dandelions
DTSTART;TZID=US/Central:20260429T130000
DTEND;TZID=US/Central:20260429T140000
DTSTAMP:20260421T220736Z
UID:6c19e8be38d8414abd8cac4dc60a4c3d@saas_stack_varnish:6080
ATTENDEE;CN="All adults welcome!";ROLE=REQ-PARTICIPANT:All adults welcome!
CONTACT:Mary Dement\, (573)648-2471\, centervillelibrarybranch@gmail.com
CREATED:20260408T200613Z
DESCRIPTION:Adult program at Centerville Library: Learn about healthy plan
 ts growing in our backyard!
LAST-MODIFIED:20260408T200640Z
LOCATION:Centerville Library
URL:https://www.reynoldscountylibrary.missouri.org/calendar-news/events/ad
 ult-program-at-centerville-library-learn-about-the-benefits-uses-of-dandel
 ions
END:VEVENT
BEGIN:VTIMEZONE
TZID:US/Central
X-LIC-LOCATION:US/Central
BEGIN:DAYLIGHT
DTSTART:20260308T030000
TZNAME:CDT
TZOFFSETFROM:-0600
TZOFFSETTO:-0500
END:DAYLIGHT
END:VTIMEZONE
END:VCALENDAR
