BEGIN:VCALENDAR
VERSION:2.0
PRODID:-//Plone.org//NONSGML plone.app.event//EN
X-WR-TIMEZONE:US/Central
BEGIN:VEVENT
SUMMARY:Board of Trustees' Meetings
DTSTART;TZID=US/Central:20240506T163000
DTEND;TZID=US/Central:20240506T173000
DTSTAMP:20260422T035453Z
UID:593cfb0a90b04a9e8ab15c52e4d555c2@saas_stack_varnish:6080
ATTENDEE;CN="All are Welcome";ROLE=REQ-PARTICIPANT:All are Welcome
CONTACT:Megan Bishop\, Library Director\, 5736482471\, reynoldscountylibra
 ry@gmail.com
CREATED:20210106T205316Z
DESCRIPTION:Public welcome. Time is available for comments from the public
 .
LAST-MODIFIED:20230517T142452Z
LOCATION:Reynolds County Library
URL:https://www.reynoldscountylibrary.missouri.org/calendar-news/events/bo
 ard-of-trustees-meetings/2024-05-06
END:VEVENT
BEGIN:VTIMEZONE
TZID:US/Central
X-LIC-LOCATION:US/Central
BEGIN:DAYLIGHT
DTSTART:20240310T030000
TZNAME:CDT
TZOFFSETFROM:-0600
TZOFFSETTO:-0500
END:DAYLIGHT
END:VTIMEZONE
END:VCALENDAR
