BEGIN:VCALENDAR
VERSION:2.0
PRODID:-//Plone.org//NONSGML plone.app.event//EN
X-WR-TIMEZONE:US/Central
BEGIN:VEVENT
SUMMARY:Holiday Candy Recipe Swap
DTSTART;TZID=US/Central:20231213T080000
DTEND;TZID=US/Central:20231213T140000
DTSTAMP:20260421T130605Z
UID:2b1e1889d71549b29bc8081683ff9bdb@saas_stack_varnish:6080
ATTENDEE;CN="Everyone is welcome!";ROLE=REQ-PARTICIPANT:Everyone is welcom
 e!
CONTACT:Mary Dement\, (573)648-2471\, centervillelibrarybranch@gmail.com
CREATED:20231204T223252Z
DESCRIPTION:Candy Recipe Swap at Centerville Library
LAST-MODIFIED:20231204T223444Z
LOCATION:Centerville Library
URL:https://www.reynoldscountylibrary.missouri.org/calendar-news/events/ho
 liday-candy-recipe-swap
END:VEVENT
BEGIN:VTIMEZONE
TZID:US/Central
X-LIC-LOCATION:US/Central
BEGIN:STANDARD
DTSTART:20231105T010000
TZNAME:CST
TZOFFSETFROM:-0500
TZOFFSETTO:-0600
END:STANDARD
END:VTIMEZONE
END:VCALENDAR
