BEGIN:VCALENDAR
VERSION:2.0
PRODID:-//Plone.org//NONSGML plone.app.event//EN
X-WR-TIMEZONE:US/Central
BEGIN:VEVENT
SUMMARY:Kids' storytime at Centerville Library
DTSTART;TZID=US/Central:20240424T140000
DTEND;TZID=US/Central:20240424T150000
DTSTAMP:20260422T000940Z
UID:e0810ae09e014ce3ba5772ecb977a13d@saas_stack_varnish:6080
ATTENDEE;CN="All children welcome";ROLE=REQ-PARTICIPANT:All children welco
 me
CONTACT:Mary Dement\, (573)648-2471
CREATED:20231103T195220Z
DESCRIPTION:Storytimes are held at Centerville Library every 2nd and 4th W
 ednesday of the month at 2:00pm throughout the school year.
LAST-MODIFIED:20231103T195236Z
LOCATION:Centerville Library
URL:https://www.reynoldscountylibrary.missouri.org/calendar-news/events/ki
 ds-storytime-at-centerville-library-1/2024-04-24
END:VEVENT
BEGIN:VTIMEZONE
TZID:US/Central
X-LIC-LOCATION:US/Central
BEGIN:DAYLIGHT
DTSTART:20240310T030000
TZNAME:CDT
TZOFFSETFROM:-0600
TZOFFSETTO:-0500
END:DAYLIGHT
END:VTIMEZONE
END:VCALENDAR
