BEGIN:VCALENDAR
VERSION:2.0
PRODID:-//Plone.org//NONSGML plone.app.event//EN
X-WR-TIMEZONE:US/Central
BEGIN:VEVENT
SUMMARY:Storytime at Ellington Library
DTSTART;TZID=US/Central:20250414T100000
DTEND;TZID=US/Central:20250414T110000
DTSTAMP:20260422T101027Z
UID:728a7f7f27a64303b181bea323a7c062@saas_stack_varnish:6080
ATTENDEE;CN="Target Audience: 1-6 years of age, ALL children are welcome";
 ROLE=REQ-PARTICIPANT:Target Audience: 1-6 years of age, ALL children are w
 elcome
CONTACT:April Amsden\, (573)663-7289\, ellingtonlibrarybranch@gmail.com
CREATED:20240326T144358Z
DESCRIPTION:Story time for kids at Ellington Library
LAST-MODIFIED:20241029T135346Z
LOCATION:Ellington Library
URL:https://www.reynoldscountylibrary.missouri.org/calendar-news/events/st
 orytime-at-ellington-library-1/2025-04-14
END:VEVENT
BEGIN:VTIMEZONE
TZID:US/Central
X-LIC-LOCATION:US/Central
BEGIN:DAYLIGHT
DTSTART:20250309T030000
TZNAME:CDT
TZOFFSETFROM:-0600
TZOFFSETTO:-0500
END:DAYLIGHT
END:VTIMEZONE
END:VCALENDAR
