BEGIN:VCALENDAR
VERSION:2.0
PRODID:-//Plone.org//NONSGML plone.app.event//EN
X-WR-TIMEZONE:US/Central
BEGIN:VEVENT
SUMMARY:Storytime at Ellington Library
DTSTART;TZID=US/Central:20240717T150000
DTEND;TZID=US/Central:20240717T160000
DTSTAMP:20260422T031549Z
UID:39a3712162e24ac58d8d7cc517b32c0f@saas_stack_varnish:6080
ATTENDEE;CN="Kids of all ages welcome!";ROLE=REQ-PARTICIPANT:Kids of all a
 ges welcome!
CONTACT:April Amsden\, (573)663-7289
CREATED:20240607T184401Z
DESCRIPTION:Story time at Ellington Library
LAST-MODIFIED:20240607T184415Z
LOCATION:Ellington Library
URL:https://www.reynoldscountylibrary.missouri.org/calendar-news/events/st
 orytime-at-ellington-library-3/2024-07-17
END:VEVENT
BEGIN:VTIMEZONE
TZID:US/Central
X-LIC-LOCATION:US/Central
BEGIN:DAYLIGHT
DTSTART:20240310T030000
TZNAME:CDT
TZOFFSETFROM:-0600
TZOFFSETTO:-0500
END:DAYLIGHT
END:VTIMEZONE
END:VCALENDAR
