BEGIN:VCALENDAR
VERSION:2.0
PRODID:-//Plone.org//NONSGML plone.app.event//EN
X-WR-TIMEZONE:US/Central
BEGIN:VEVENT
SUMMARY:Storytime at Lesterville Library
DTSTART;TZID=US/Central:20240731T100000
DTEND;TZID=US/Central:20240731T110000
DTSTAMP:20260422T081339Z
UID:a6dfd4aa41434621aaa615d61468ad34@saas_stack_varnish:6080
ATTENDEE;CN="Children of all ages welcome!";ROLE=REQ-PARTICIPANT:Children 
 of all ages welcome!
CONTACT:Rose Asberry\, (573)637-2532
CREATED:20240607T185440Z
DESCRIPTION:Story time at Lesterville Library
LAST-MODIFIED:20240607T185502Z
LOCATION:Lesterville Library
URL:https://www.reynoldscountylibrary.missouri.org/calendar-news/events/st
 orytime-at-lesterville-library-2/2024-07-31
END:VEVENT
BEGIN:VTIMEZONE
TZID:US/Central
X-LIC-LOCATION:US/Central
BEGIN:DAYLIGHT
DTSTART:20240310T030000
TZNAME:CDT
TZOFFSETFROM:-0600
TZOFFSETTO:-0500
END:DAYLIGHT
END:VTIMEZONE
END:VCALENDAR
