BEGIN:VCALENDAR
VERSION:2.0
PRODID:-//Plone.org//NONSGML plone.app.event//EN
X-WR-TIMEZONE:US/Central
BEGIN:VEVENT
SUMMARY:Summer Reading Storytime at Centerville Library
DTSTART;TZID=US/Central:20250625T130000
DTEND;TZID=US/Central:20250625T140000
DTSTAMP:20260422T215707Z
UID:725ffbf07c9d4336a8beb2cb77b5d132@saas_stack_varnish:6080
ATTENDEE;CN="All kids are welcome";ROLE=REQ-PARTICIPANT:All kids are welco
 me
CONTACT:Mary Dement\, 573-648-2471
CREATED:20250521T213559Z
DESCRIPTION:Storytime for children at Centerville Library
LAST-MODIFIED:20250521T213616Z
LOCATION:Centerville Library
URL:https://www.reynoldscountylibrary.missouri.org/calendar-news/events/su
 mmer-reading-storytime-at-centerville-library/2025-06-25
END:VEVENT
BEGIN:VTIMEZONE
TZID:US/Central
X-LIC-LOCATION:US/Central
BEGIN:DAYLIGHT
DTSTART:20250309T030000
TZNAME:CDT
TZOFFSETFROM:-0600
TZOFFSETTO:-0500
END:DAYLIGHT
END:VTIMEZONE
END:VCALENDAR
