BEGIN:VCALENDAR
VERSION:2.0
PRODID:-//Plone.org//NONSGML plone.app.event//EN
X-WR-TIMEZONE:US/Central
BEGIN:VEVENT
SUMMARY:Summer Reading Storytime at Lesterville Library
DTSTART;TZID=US/Central:20250528T100000
DTEND;TZID=US/Central:20250528T110000
DTSTAMP:20260422T101026Z
UID:ad5a5ee13d0d415c9f63994496367b9b@saas_stack_varnish:6080
RRULE:FREQ=WEEKLY;UNTIL=20250702T000000
ATTENDEE;CN="All kids are welcome";ROLE=REQ-PARTICIPANT:All kids are welco
 me
CONTACT:Rose Asberry\, (573)637-2532
CREATED:20250521T214849Z
DESCRIPTION:Storytime for children at Lesterville Library
LAST-MODIFIED:20250521T215142Z
LOCATION:Lesterville Library
URL:https://www.reynoldscountylibrary.missouri.org/calendar-news/events/su
 mmer-reading-storytime-at-lesterville-library
END:VEVENT
BEGIN:VTIMEZONE
TZID:US/Central
X-LIC-LOCATION:US/Central
BEGIN:DAYLIGHT
DTSTART:20250309T030000
TZNAME:CDT
TZOFFSETFROM:-0600
TZOFFSETTO:-0500
END:DAYLIGHT
END:VTIMEZONE
END:VCALENDAR
