BEGIN:VCALENDAR
VERSION:2.0
PRODID:-//Plone.org//NONSGML plone.app.event//EN
X-WR-TIMEZONE:US/Central
BEGIN:VEVENT
SUMMARY:Summer Reading Storytime at Oates Library
DTSTART;TZID=US/Central:20250611T100000
DTEND;TZID=US/Central:20250611T110000
DTSTAMP:20260422T081339Z
UID:c39ea0bd5e174895bce6a66dba34924d@saas_stack_varnish:6080
ATTENDEE;CN="All kids are welcome";ROLE=REQ-PARTICIPANT:All kids are welco
 me
CONTACT:Sharon Carl\, (573)269-1117
CREATED:20250521T215623Z
DESCRIPTION:Storytime for children at Oates Library
LAST-MODIFIED:20250521T215654Z
LOCATION:Oates Library
URL:https://www.reynoldscountylibrary.missouri.org/calendar-news/events/su
 mmer-reading-storytime-at-oates-library/2025-06-11
END:VEVENT
BEGIN:VTIMEZONE
TZID:US/Central
X-LIC-LOCATION:US/Central
BEGIN:DAYLIGHT
DTSTART:20250309T030000
TZNAME:CDT
TZOFFSETFROM:-0600
TZOFFSETTO:-0500
END:DAYLIGHT
END:VTIMEZONE
END:VCALENDAR
